BEGIN:VCALENDAR
VERSION:2.0
PRODID:-//CUBANGO CONNEXION TOULOUSE - ECPv6.9.1//NONSGML v1.0//EN
CALSCALE:GREGORIAN
METHOD:PUBLISH
X-WR-CALNAME:CUBANGO CONNEXION TOULOUSE
X-ORIGINAL-URL:https://cubango-toulouse.fr
X-WR-CALDESC:Évènements pour CUBANGO CONNEXION TOULOUSE
REFRESH-INTERVAL;VALUE=DURATION:PT1H
X-Robots-Tag:noindex
X-PUBLISHED-TTL:PT1H
BEGIN:VTIMEZONE
TZID:Europe/Paris
BEGIN:DAYLIGHT
TZOFFSETFROM:+0100
TZOFFSETTO:+0200
TZNAME:CEST
DTSTART:20240331T010000
END:DAYLIGHT
BEGIN:STANDARD
TZOFFSETFROM:+0200
TZOFFSETTO:+0100
TZNAME:CET
DTSTART:20241027T010000
END:STANDARD
END:VTIMEZONE
BEGIN:VEVENT
DTSTART;VALUE=DATE:20240601
DTEND;VALUE=DATE:20240602
DTSTAMP:20260425T055617
CREATED:20240520T160641Z
LAST-MODIFIED:20240708T124025Z
UID:419-1717200000-1717286399@cubango-toulouse.fr
SUMMARY:KIZ4U
DESCRIPTION:LA MENSUELLE : KIZ4U  – RAMONVILLE (31) \n \nC’est l’évènement le plus ancien sur le planning des nocturnes “toulousaines” (depuis 2011).\nSi elle fait office de petite vieille pour certains\, elle n’en reste pas moins\, à l’échelle de la Ville Rose\, le RDV de référence en matière de KIZOMBA & de SEMBA.\nEn somme\, amoureux de la kizomba et du semba au sens strict comme au sens large (on aime aussi le ghetto zouk messieurs-dames) vous devriez trouver de quoi vous faire plaisir en notre compagnie dans une ambiance familiale et conviviale !\nEn terme de programmation : en alternance – 2 DJ “résidents” :\n– DJ AKYM (Toulouse)\n– DJ PASCAL (AGEN) \nEt un DJ GUEST ponctuel : DJ VASCO (PARIS) \nHORAIRES :\n>20h00 – 22h00 STAGES – programmation ponctuelle \n> 22h00 – 3h00 : Soirée KIZOMBA/SEMBA/CABO/GHETTO ZOUK/COLADEIRA/KONPA/ZOUK\n> 22:00 > minuit : Les TAXI-DANSEURS Cubango Connexion sont à votre disposition pendant ce créneau horaire ! Pensez à les inviter!! \nADRESSE : STAGE & MISE EN PRATIQUE au même endroit !\nLE LOCAL\, 33 rue des Ormes\, 31520 RAMONVILLE
URL:https://cubango-toulouse.fr/evenement/kiz4u/
LOCATION:Ramonville-Saint-Agne\, 11\, rue Louis Renault\, Ramonville\, 31150\, France
CATEGORIES:KIZ4U
ATTACH;FMTTYPE=image/jpeg:https://cubango-toulouse.fr/medias/2024/05/KIZ4U.jpg
ORGANIZER;CN="ANNE-SOPHIE":MAILTO:ane.sophie@cubango-toulouse.fr
END:VEVENT
END:VCALENDAR