BEGIN:VCALENDAR
VERSION:2.0
PRODID:-//CUBANGO CONNEXION TOULOUSE - ECPv6.9.1//NONSGML v1.0//EN
CALSCALE:GREGORIAN
METHOD:PUBLISH
X-ORIGINAL-URL:https://cubango-toulouse.fr
X-WR-CALDESC:Évènements pour CUBANGO CONNEXION TOULOUSE
REFRESH-INTERVAL;VALUE=DURATION:PT1H
X-Robots-Tag:noindex
X-PUBLISHED-TTL:PT1H
BEGIN:VTIMEZONE
TZID:Europe/Paris
BEGIN:DAYLIGHT
TZOFFSETFROM:+0100
TZOFFSETTO:+0200
TZNAME:CEST
DTSTART:20250330T010000
END:DAYLIGHT
BEGIN:STANDARD
TZOFFSETFROM:+0200
TZOFFSETTO:+0100
TZNAME:CET
DTSTART:20251026T010000
END:STANDARD
END:VTIMEZONE
BEGIN:VEVENT
DTSTART;TZID=Europe/Paris:20250201T193000
DTEND;TZID=Europe/Paris:20250202T030000
DTSTAMP:20260424T190952
CREATED:20250121T124851Z
LAST-MODIFIED:20250123T124439Z
UID:860-1738438200-1738465200@cubango-toulouse.fr
SUMMARY:KIZ4U
DESCRIPTION:[vc_row][vc_column][vc_column_text css=””] \nSAM. 1er FEV. 2025 > KIZ4ULa KIZ4U n’est plus à sa première occurrence\, mais pour les nouveaux venus\, une petit présentation est de mise.C’est LA soirée la plus ancienne sur le planning des soirées “toulousaines” (depuis 2011).Si elle fait office de petite vieille pour certains\, elle n’en reste pas moins\, à l’échelle de la Ville Rose\, la soirée de référence en matière de KIZOMBA & de SEMBA.En somme\, amoureux de la kizomba et du semba au sens strict comme au sens large (on aime aussi le ghetto zouk les gars… ^^) vous devriez trouver de quoi vous faire plaisir en notre compagnie dans une ambiance familiale et conviviale !En terme de programmation : en alternance – 2 DJ “résidents” :– DJ AKYM (Toulouse)– DJ PASCAL (AGEN)Et un DJ GUEST : DJ VASCO (PARIS)(3 dates dans l’année avec stages avant soirée avec An’So & Vasco) \n  \n\nPOUR CETTE EDITION DE FEVRIER :En début de soirée\, VASCO se joint à AN’SO pour 2 stages de SEMBA (débutant évolutif et intermédiaire évolutif).\nPrérequis niveau débutant : Attention ce cours n’est pas une initiation. Les bases de la kizomba seront demandées pour participer au cours : connexion et déplacements de base + sorties filles/sorties garçon.\nPrérequis niveau inter évolutif : Cours ouvert aux personnes ayant au moins un an de cours réguliers de kizomba ou semba à leur actif.\n\nHORAIRES :>19h45 – 20h45 : SEMBA Déb. évolutif avec AN’SO & VASCO> 20h45 – 21h45 : SEMBA Inter. évolutif avec AN’SO & VASCO\n> 22h00 – 3h00 : Soirée KIZOMBA/SEMBA/CABO/GHETTO ZOUK/COLADEIRA/KONPA/ZOUK – DJ VASCO> 22:00 > minuit : Les TAXI-DANSEURS Cubango Connexion sont à votre disposition pendant ce créneau horaire ! Pensez à les inviter!!\n\nTARIFS STAGES et SOIREE :– 1 stage + soirée entrée simple : 20 €– 2 stages + soirée entrée simple : 26€– 1 stage + soirée entrée + soft : 22 €– 2 stages + soirée entrée + soft : 28 €\n\nTARIFS STAGES seuls :– 1 stage sans soirée : 15€– 2 stages sans soirée : 28€\n\nTARIF SOIREE seule :– 10€ entrée simple– 12€ entrée + soft\n\nPRE-INSCRIPTIONS POUR LE STAGES :Pré-inscriptions par mail recommandées pour anticiper la parité.Mail : cubango.connexion@gmail.com\n\nMODES DE PAIEMENT : ATTENTION NO CB / NO CHEQUE\n\nADRESSE : STAGE & SOIREE au même endroit !LE LOCAL\, 33 rue des Ormes\, 31520 RAMONVILLE\n\nA très vite !\n[/vc_column_text][/vc_column][/vc_row]
URL:https://cubango-toulouse.fr/evenement/860/
LOCATION:LE LOCAL\, 33 rue des Ormes\, Ramonville-Saint-Agne\, 31520
CATEGORIES:KIZ4U
ATTACH;FMTTYPE=image/jpeg:https://cubango-toulouse.fr/medias/2025/01/KIZ4U-ANSO-VASCO-Fevrier-2025.jpg
END:VEVENT
END:VCALENDAR